BEGIN:VCALENDAR
VERSION:2.0
PRODID:-//Mindscape Centre for Counseling - ECPv6.15.12.1//NONSGML v1.0//EN
CALSCALE:GREGORIAN
METHOD:PUBLISH
X-WR-CALNAME:Mindscape Centre for Counseling
X-ORIGINAL-URL:https://mind-scape.in
X-WR-CALDESC:Events for Mindscape Centre for Counseling
REFRESH-INTERVAL;VALUE=DURATION:PT1H
X-Robots-Tag:noindex
X-PUBLISHED-TTL:PT1H
BEGIN:VTIMEZONE
TZID:UTC
BEGIN:STANDARD
TZOFFSETFROM:+0000
TZOFFSETTO:+0000
TZNAME:UTC
DTSTART:20220101T000000
END:STANDARD
END:VTIMEZONE
BEGIN:VEVENT
DTSTART;VALUE=DATE:20230807
DTEND;VALUE=DATE:20230808
DTSTAMP:20260421T195314
CREATED:20220328T002137Z
LAST-MODIFIED:20230726T113208Z
UID:12365-1691366400-1691452799@mind-scape.in
SUMMARY:Basic counseling skills training
DESCRIPTION:
URL:https://mind-scape.in/event/the-world-will-embrace-you-as-you-are/
CATEGORIES:Reduce Stress,Reflexology
ATTACH;FMTTYPE=image/jpeg:https://mind-scape.in/wp-content/uploads/2022/03/e20.jpg
ORGANIZER;CN="Mindscape":MAILTO:info@mindscape.in
END:VEVENT
BEGIN:VEVENT
DTSTART;VALUE=DATE:20230805
DTEND;VALUE=DATE:20230806
DTSTAMP:20260421T195314
CREATED:20220328T001038Z
LAST-MODIFIED:20230810T053532Z
UID:12344-1691193600-1691279999@mind-scape.in
SUMMARY:Navigating anxious mind
DESCRIPTION:
URL:https://mind-scape.in/event/say-no-to-drugs-say-yes-to-us/
ATTACH;FMTTYPE=image/webp:https://mind-scape.in/wp-content/uploads/2021/08/Anxiety-Support-Groups-Dallas.webp
ORGANIZER;CN="Mindscape":MAILTO:info@mindscape.in
END:VEVENT
BEGIN:VEVENT
DTSTART;TZID=UTC:20230616T080000
DTEND;TZID=UTC:20230715T170000
DTSTAMP:20260421T195314
CREATED:20220328T000639Z
LAST-MODIFIED:20230704T061235Z
UID:12338-1686902400-1689440400@mind-scape.in
SUMMARY:Basic Counseling Skills Training- Batch VII
DESCRIPTION:
URL:https://mind-scape.in/event/a-painless-life-is-a-healthy-life/
LOCATION:A healthy life awaits you\, 2464 Royal Lane Mesa\, Windsower Bridge\, 001\, United States
CATEGORIES:Reduce Stress,Reflexology
ATTACH;FMTTYPE=image/jpeg:https://mind-scape.in/wp-content/uploads/2022/03/e11.jpg
ORGANIZER;CN="Mindscape":MAILTO:info@mindscape.in
END:VEVENT
END:VCALENDAR